BEGIN:VCALENDAR
VERSION:2.0
X-WR-CALNAME: Oesch's die Dritten
PRODID:GIGPRESS 2.0 WORDPRESS PLUGIN
CALSCALE:GREGORIAN
X-WR-TIMEZONE:Etc/GMT
METHOD:PUBLISH
BEGIN:VTIMEZONE
TZID:GMT
BEGIN:STANDARD
DTSTART:20071028T010000
TZOFFSETTO:+0000
TZOFFSETFROM:+0000
END:STANDARD
END:VTIMEZONE
BEGIN:VEVENT
SUMMARY:Oesch's die Dritten \, Frühlingsfest & Konzert mit Oesch's die Dritten
DESCRIPTION:Anmerkungen: KB 17.00 Uhr | Tickerverkauf via Karl Trenkle: Tel. +4977232288\, Email: cafe-tannenhof@t-online.de | Birgit Winskowski: Tel. +4977271494\, Email: biwin@t-online.de 
LOCATION:Frühlingsfest & Konzert mit Oesch's die Dritten\, Haus des Gastes\, D-78136 Schonach\, DE
UID:20260418T220000Z-569-wp@lukasmaerki.ch
URL:https://www.oeschs-die-dritten.ch
DTSTART;VALUE=DATE-TIME;TZID=GMT:20260418T220000Z
DTEND;VALUE=DATE-TIME;TZID=GMT:20260418T220000Z
DTSTAMP:20260419T010736Z
END:VEVENT
BEGIN:VEVENT
SUMMARY:Oesch's die Dritten \, AUSVERKAUFT/SOLD OUT! 64e Fête des Musiques de la Glâne & "Souper Concert" Oesch's die Dritten
DESCRIPTION:Anmerkungen: Ouverture de la cantine : 17h 
LOCATION:AUSVERKAUFT/SOLD OUT! 64e Fête des Musiques de la Glâne & "Souper Concert" Oesch's die Dritten\, Cantine\, CH-1689 Le Châtelard-près-Romont\, FR\, CH
UID:20260429T220000Z-578-wp@lukasmaerki.ch
URL:https://www.oeschs-die-dritten.ch
DTSTART;VALUE=DATE-TIME;TZID=GMT:20260429T220000Z
DTEND;VALUE=DATE-TIME;TZID=GMT:20260429T220000Z
DTSTAMP:20260419T010736Z
END:VEVENT
BEGIN:VEVENT
SUMMARY:Oesch's die Dritten \, 5. Ostschweizer Schlager-Festival 2026
DESCRIPTION:Anmerkungen: TÖ 13:00 | KB 14:00 | Ende Konzerte 23:00 Uhr\,   Programmänderungen vorbehalten. Barbetrieb bis 02:00 Uhr 
LOCATION:5. Ostschweizer Schlager-Festival 2026\, Lidl Wittenbach\, CH-9300 Wittenbach\, SG\, CH
UID:20260513T220000Z-543-wp@lukasmaerki.ch
URL:https://www.oeschs-die-dritten.ch
DTSTART;VALUE=DATE-TIME;TZID=GMT:20260513T220000Z
DTEND;VALUE=DATE-TIME;TZID=GMT:20260513T220000Z
DTSTAMP:20260419T010736Z
END:VEVENT
BEGIN:VEVENT
SUMMARY:Oesch's die Dritten \, FANTAG 2026
DESCRIPTION:Anmerkungen: Infos folgen. Der Eintritt ist ausschliesslich für FANCLUB-Mitglieder. 
LOCATION:FANTAG 2026\, Alte Reithalle\, ThunExpo\, Thun\, CH
UID:20260516T220000Z-554-wp@lukasmaerki.ch
URL:https://www.oeschs-die-dritten.ch
DTSTART;VALUE=DATE-TIME;TZID=GMT:20260516T220000Z
DTEND;VALUE=DATE-TIME;TZID=GMT:20260516T220000Z
DTSTAMP:20260419T010736Z
END:VEVENT
BEGIN:VEVENT
SUMMARY:Oesch's die Dritten \, AR Mood Festival
DESCRIPTION:Anmerkungen: Plus d'infos suivront 
LOCATION:AR Mood Festival\, Place Longereuse\, CH-2114 Fleurier\, NE\, CH
UID:20260528T220000Z-592-wp@lukasmaerki.ch
URL:https://www.oeschs-die-dritten.ch
DTSTART;VALUE=DATE-TIME;TZID=GMT:20260528T220000Z
DTEND;VALUE=DATE-TIME;TZID=GMT:20260528T220000Z
DTSTAMP:20260419T010736Z
END:VEVENT
BEGIN:VEVENT
SUMMARY:Oesch's die Dritten \, 76. Bezirkusmusikfest
DESCRIPTION:Anmerkungen: Ab 17.00 | Auftritt Oeschs ab 21.00 | Weitere Infos folgen 
LOCATION:76. Bezirkusmusikfest\, Festzelt\, CH-3924 St. Niklaus\, VS\, CH
UID:20260529T220000Z-579-wp@lukasmaerki.ch
URL:https://www.oeschs-die-dritten.ch
DTSTART;VALUE=DATE-TIME;TZID=GMT:20260529T220000Z
DTEND;VALUE=DATE-TIME;TZID=GMT:20260529T220000Z
DTSTAMP:20260419T010736Z
END:VEVENT
BEGIN:VEVENT
SUMMARY:Oesch's die Dritten \, Souper-concert avec Oesch's die Dritten
DESCRIPTION:Anmerkungen: 18h ouverture des portes / 19h souper / 21h concert 
LOCATION:Souper-concert avec Oesch's die Dritten\, Place de fête Prazqueron\, CH-1032 Romanel-sur-Lausanne\, VD\, CH
UID:20260605T220000Z-599-wp@lukasmaerki.ch
URL:https://www.oeschs-die-dritten.ch
DTSTART;VALUE=DATE-TIME;TZID=GMT:20260605T220000Z
DTEND;VALUE=DATE-TIME;TZID=GMT:20260605T220000Z
DTSTAMP:20260419T010736Z
END:VEVENT
BEGIN:VEVENT
SUMMARY:Oesch's die Dritten \, 100 Jahre Ortsverein Hegi
DESCRIPTION:Anmerkungen: TÖ 18.30 | Beginn ab 20.00\, Auftritt Oeschs 21.15 Uhr 
LOCATION:100 Jahre Ortsverein Hegi\, Eulachpark\, CH-8409 Winterthur Hegi\, CH
UID:20260612T220000Z-580-wp@lukasmaerki.ch
URL:https://www.oeschs-die-dritten.ch
DTSTART;VALUE=DATE-TIME;TZID=GMT:20260612T220000Z
DTEND;VALUE=DATE-TIME;TZID=GMT:20260612T220000Z
DTSTAMP:20260419T010736Z
END:VEVENT
BEGIN:VEVENT
SUMMARY:Oesch's die Dritten \, L'Abbaye La Sarraz "Souper-Concert" avec Oesch's die Dritten
DESCRIPTION:Anmerkungen: TÖ 18h | Concert 21h | Billets: Email : ludozimm03@gmail.com 
LOCATION:L'Abbaye La Sarraz "Souper-Concert" avec Oesch's die Dritten\, Cantine de l'Abbaye\, CH-1315 La Sarraz\, VD\, CH
UID:20260709T220000Z-581-wp@lukasmaerki.ch
URL:https://www.oeschs-die-dritten.ch
DTSTART;VALUE=DATE-TIME;TZID=GMT:20260709T220000Z
DTEND;VALUE=DATE-TIME;TZID=GMT:20260709T220000Z
DTSTAMP:20260419T010736Z
END:VEVENT
BEGIN:VEVENT
SUMMARY:Oesch's die Dritten \, OpenAir Niederbüren
DESCRIPTION:Anmerkungen: ab 15.30 Uhr 
LOCATION:OpenAir Niederbüren\, Festgelände "Chrüzbachtobel"\, CH-9246 Niederbüren\, SG\, CH
UID:20260724T220000Z-582-wp@lukasmaerki.ch
URL:https://www.oeschs-die-dritten.ch
DTSTART;VALUE=DATE-TIME;TZID=GMT:20260724T220000Z
DTEND;VALUE=DATE-TIME;TZID=GMT:20260724T220000Z
DTSTAMP:20260419T010736Z
END:VEVENT
BEGIN:VEVENT
SUMMARY:Oesch's die Dritten \, Edelweiss Open Air
DESCRIPTION:Anmerkungen: ab 12.30 Uhr 
LOCATION:Edelweiss Open Air\, Festgelände\, Flumserberg\, SG\, CH
UID:20260731T220000Z-575-wp@lukasmaerki.ch
URL:https://www.oeschs-die-dritten.ch
DTSTART;VALUE=DATE-TIME;TZID=GMT:20260731T220000Z
DTEND;VALUE=DATE-TIME;TZID=GMT:20260731T220000Z
DTSTAMP:20260419T010736Z
END:VEVENT
BEGIN:VEVENT
SUMMARY:Oesch's die Dritten \, 69. Partenkirchner Festwoche - Konzert Oesch's die Dritten
DESCRIPTION:Anmerkungen: Infos folgen 
LOCATION:69. Partenkirchner Festwoche - Konzert Oesch's die Dritten\, Festzelt am Schützenhaus\, D-82467 Garmisch-Partenkirchen\, DE
UID:20260812T220000Z-584-wp@lukasmaerki.ch
URL:https://www.oeschs-die-dritten.ch
DTSTART;VALUE=DATE-TIME;TZID=GMT:20260812T220000Z
DTEND;VALUE=DATE-TIME;TZID=GMT:20260812T220000Z
DTSTAMP:20260419T010736Z
END:VEVENT
BEGIN:VEVENT
SUMMARY:Oesch's die Dritten \, ROTSEE-BADI EBIKON PRESENTS: Oesch's die Dritten
DESCRIPTION:Anmerkungen: TÖ 18.00 Uhr | KB 20.00 Uhr 
LOCATION:ROTSEE-BADI EBIKON PRESENTS: Oesch's die Dritten\, Rotsee-Badi\, CH-6030 Ebikon\, LU\, CH
UID:20260813T220000Z-593-wp@lukasmaerki.ch
URL:https://www.oeschs-die-dritten.ch
DTSTART;VALUE=DATE-TIME;TZID=GMT:20260813T220000Z
DTEND;VALUE=DATE-TIME;TZID=GMT:20260813T220000Z
DTSTAMP:20260419T010736Z
END:VEVENT
BEGIN:VEVENT
SUMMARY:Oesch's die Dritten \, 100 ANS "Echo du Prabé" & Concert Oesch's die Dritten
DESCRIPTION:Anmerkungen: 18h Ouvertures des portes 
LOCATION:100 ANS "Echo du Prabé" & Concert Oesch's die Dritten\, Halle de fête\, CH-1965 Savièse\, VS\, CH
UID:20260820T220000Z-591-wp@lukasmaerki.ch
URL:https://www.oeschs-die-dritten.ch
DTSTART;VALUE=DATE-TIME;TZID=GMT:20260820T220000Z
DTEND;VALUE=DATE-TIME;TZID=GMT:20260820T220000Z
DTSTAMP:20260419T010736Z
END:VEVENT
BEGIN:VEVENT
SUMMARY:Oesch's die Dritten \, Eidg. Scheller- und Trychlerfest - Tradition trifft Lebensfreude
DESCRIPTION:Anmerkungen: Infos folgen 
LOCATION:Eidg. Scheller- und Trychlerfest - Tradition trifft Lebensfreude\, Festgelände\, CH-3054 Schüpfen\, BE\, CH
UID:20260821T220000Z-594-wp@lukasmaerki.ch
URL:https://www.oeschs-die-dritten.ch
DTSTART;VALUE=DATE-TIME;TZID=GMT:20260821T220000Z
DTEND;VALUE=DATE-TIME;TZID=GMT:20260821T220000Z
DTSTAMP:20260419T010736Z
END:VEVENT
BEGIN:VEVENT
SUMMARY:Oesch's die Dritten \, 33. Pfunds Kerle FEST
DESCRIPTION:Anmerkungen: Mehr Infos folgen. 
LOCATION:33. Pfunds Kerle FEST\, Festzelt "Ensplatz"\, A-6542 Pfunds\, AT
UID:20260827T220000Z-583-wp@lukasmaerki.ch
URL:https://www.oeschs-die-dritten.ch
DTSTART;VALUE=DATE-TIME;TZID=GMT:20260827T220000Z
DTEND;VALUE=DATE-TIME;TZID=GMT:20260827T220000Z
DTSTAMP:20260419T010736Z
END:VEVENT
BEGIN:VEVENT
SUMMARY:Oesch's die Dritten \, FÊTE DES MOISSONS
DESCRIPTION:Anmerkungen: plus d'infos suivront 
LOCATION:FÊTE DES MOISSONS\, CH-2105 Travers\, NE\, CH
UID:20260903T220000Z-595-wp@lukasmaerki.ch
URL:https://www.oeschs-die-dritten.ch
DTSTART;VALUE=DATE-TIME;TZID=GMT:20260903T220000Z
DTEND;VALUE=DATE-TIME;TZID=GMT:20260903T220000Z
DTSTAMP:20260419T010736Z
END:VEVENT
BEGIN:VEVENT
SUMMARY:Oesch's die Dritten \, 100 Jahre Nidaugassleist Biel
DESCRIPTION:Tour: MERCI-Tour - 30 Jahre/ans Oesch's die Dritten. Anmerkungen: Weitere Infos folgen. 
LOCATION:100 Jahre Nidaugassleist Biel\, Openair & Jubiläumsevent\, CH-2502 Biel\, CH
UID:20260904T220000Z-616-wp@lukasmaerki.ch
URL:https://www.oeschs-die-dritten.ch
DTSTART;VALUE=DATE-TIME;TZID=GMT:20260904T220000Z
DTEND;VALUE=DATE-TIME;TZID=GMT:20260904T220000Z
DTSTAMP:20260419T010736Z
END:VEVENT
BEGIN:VEVENT
SUMMARY:Oesch's die Dritten \, Herbstkonzert mit Oesch's die Dritten
DESCRIPTION:Anmerkungen: Beginn: 19.30 Uhr. 
LOCATION:Herbstkonzert mit Oesch's die Dritten\, Haus des Gastes\, D-79862 Höchenschwand\, DE
UID:20260917T220000Z-553-wp@lukasmaerki.ch
URL:https://www.oeschs-die-dritten.ch
DTSTART;VALUE=DATE-TIME;TZID=GMT:20260917T220000Z
DTEND;VALUE=DATE-TIME;TZID=GMT:20260917T220000Z
DTSTAMP:20260419T010736Z
END:VEVENT
BEGIN:VEVENT
SUMMARY:Oesch's die Dritten \, CERFESTIVAL 2026
DESCRIPTION:Anmerkungen: Ouverture des portes : 09h 
LOCATION:CERFESTIVAL 2026\, Place de fête\, cantine\, CH-2826 Corban\, JU\, CH
UID:20260919T220000Z-570-wp@lukasmaerki.ch
URL:https://www.oeschs-die-dritten.ch
DTSTART;VALUE=DATE-TIME;TZID=GMT:20260919T220000Z
DTEND;VALUE=DATE-TIME;TZID=GMT:20260919T220000Z
DTSTAMP:20260419T010736Z
END:VEVENT
BEGIN:VEVENT
SUMMARY:Oesch's die Dritten \, AUSVERKAUFT / SOLT OUT! Herbstreise auf der Donau
DESCRIPTION:Anmerkungen: Passau | Dürnstein | Wien | Budapest | Bratislava | Melk | Linz | Passau. 
LOCATION:AUSVERKAUFT / SOLT OUT! Herbstreise auf der Donau\, MS Swiss Splendor (Schiff)\, AT
UID:20261007T220000Z-547-wp@lukasmaerki.ch
URL:https://www.oeschs-die-dritten.ch
DTSTART;VALUE=DATE-TIME;TZID=GMT:20261007T220000Z
DTEND;VALUE=DATE-TIME;TZID=GMT:20261014T220000Z
DTSTAMP:20260419T010736Z
END:VEVENT
BEGIN:VEVENT
SUMMARY:Oesch's die Dritten \, Oktoberfest beim Tannenbaum
DESCRIPTION:Anmerkungen: Weitere Infos folgen. VVK ab 1. Mai 
LOCATION:Oktoberfest beim Tannenbaum\, Festgelände\, CH-4652 Winznau\, CH
UID:20261015T220000Z-596-wp@lukasmaerki.ch
URL:https://www.oeschs-die-dritten.ch
DTSTART;VALUE=DATE-TIME;TZID=GMT:20261015T220000Z
DTEND;VALUE=DATE-TIME;TZID=GMT:20261015T220000Z
DTSTAMP:20260419T010736Z
END:VEVENT
BEGIN:VEVENT
SUMMARY:Oesch's die Dritten \, Oesch's die Dritten - Konzert
DESCRIPTION:Anmerkungen: VVK-Start: 1.12.25 
LOCATION:Oesch's die Dritten - Konzert\, Kapuziner-Halle\, D-89331 Burgau\, DE
UID:20261016T220000Z-571-wp@lukasmaerki.ch
URL:https://www.oeschs-die-dritten.ch
DTSTART;VALUE=DATE-TIME;TZID=GMT:20261016T220000Z
DTEND;VALUE=DATE-TIME;TZID=GMT:20261016T220000Z
DTSTAMP:20260419T010736Z
END:VEVENT
BEGIN:VEVENT
SUMMARY:Oesch's die Dritten \, KURHAUS SESSIONS: Oesch's die Dritten - live
DESCRIPTION:Anmerkungen: ab 18.00 Uhr Abendessen. Ab 20.30 Uhr Konzert. 
LOCATION:KURHAUS SESSIONS: Oesch's die Dritten - live\, FLÜHLI Hotel\, Kurhaus\, CH-6173 Flühli\, LU\, CH
UID:20261023T220000Z-597-wp@lukasmaerki.ch
URL:https://www.oeschs-die-dritten.ch
DTSTART;VALUE=DATE-TIME;TZID=GMT:20261023T220000Z
DTEND;VALUE=DATE-TIME;TZID=GMT:20261023T220000Z
DTSTAMP:20260419T010736Z
END:VEVENT
BEGIN:VEVENT
SUMMARY:Oesch's die Dritten \, NEUES DATUM! Zugabe: "Händmade"- TOUR
DESCRIPTION:Tour: ZUGABE: Tournee "Händmade". 
LOCATION:NEUES DATUM! Zugabe: "Händmade"- TOUR\, Stadthalle\, D-37520 Osterode am Harz\, DE
UID:20261027T230000Z-562-wp@lukasmaerki.ch
URL:https://www.oeschs-die-dritten.ch
DTSTART;VALUE=DATE-TIME;TZID=GMT:20261027T230000Z
DTEND;VALUE=DATE-TIME;TZID=GMT:20261027T230000Z
DTSTAMP:20260419T010736Z
END:VEVENT
BEGIN:VEVENT
SUMMARY:Oesch's die Dritten \, NEUES DATUM! Zugabe: "Händmade"- TOUR
DESCRIPTION:Tour: ZUGABE: Tournee "Händmade". Anmerkungen: Beginn 20.00 Uhr 
LOCATION:NEUES DATUM! Zugabe: "Händmade"- TOUR\, Theatersaal/ Konzerthalle\, D-63619 Bad Orb\, DE
UID:20261028T230000Z-557-wp@lukasmaerki.ch
URL:https://www.oeschs-die-dritten.ch
DTSTART;VALUE=DATE-TIME;TZID=GMT:20261028T230000Z
DTEND;VALUE=DATE-TIME;TZID=GMT:20261028T230000Z
DTSTAMP:20260419T010736Z
END:VEVENT
BEGIN:VEVENT
SUMMARY:Oesch's die Dritten \, NEUES DATUM! Zugabe: "Händmade"- TOUR
DESCRIPTION:Tour: ZUGABE: Tournee "Händmade". 
LOCATION:NEUES DATUM! Zugabe: "Händmade"- TOUR\, Stadthalle\, D-48429 Rheine\, DE
UID:20261030T230000Z-563-wp@lukasmaerki.ch
URL:https://www.oeschs-die-dritten.ch
DTSTART;VALUE=DATE-TIME;TZID=GMT:20261030T230000Z
DTEND;VALUE=DATE-TIME;TZID=GMT:20261030T230000Z
DTSTAMP:20260419T010736Z
END:VEVENT
BEGIN:VEVENT
SUMMARY:Oesch's die Dritten \, NEUES DATUM! Zugabe: "Händmade"-TOUR
DESCRIPTION:Tour: ZUGABE: Tournee "Händmade". Anmerkungen: KB: 20.00 Uhr 
LOCATION:NEUES DATUM! Zugabe: "Händmade"-TOUR\, Stadttheater\, D-98646 Hildburghausen\, DE
UID:20261105T230000Z-573-wp@lukasmaerki.ch
URL:https://www.oeschs-die-dritten.ch
DTSTART;VALUE=DATE-TIME;TZID=GMT:20261105T230000Z
DTEND;VALUE=DATE-TIME;TZID=GMT:20261105T230000Z
DTSTAMP:20260419T010736Z
END:VEVENT
BEGIN:VEVENT
SUMMARY:Oesch's die Dritten \, NEUES DATUM! Zugabe: "Händmade"- TOUR
DESCRIPTION:Tour: ZUGABE: Tournee "Händmade". Anmerkungen: KB 20.00 Uhr 
LOCATION:NEUES DATUM! Zugabe: "Händmade"- TOUR\, Stadthalle\, D-09496 Marienberg\, DE
UID:20261106T230000Z-560-wp@lukasmaerki.ch
URL:https://www.oeschs-die-dritten.ch
DTSTART;VALUE=DATE-TIME;TZID=GMT:20261106T230000Z
DTEND;VALUE=DATE-TIME;TZID=GMT:20261106T230000Z
DTSTAMP:20260419T010736Z
END:VEVENT
BEGIN:VEVENT
SUMMARY:Oesch's die Dritten \, NEUES DATUM! Zugabe: "Händmade"-TOUR
DESCRIPTION:Tour: ZUGABE: Tournee "Händmade". Anmerkungen: 20.00 Uhr 
LOCATION:NEUES DATUM! Zugabe: "Händmade"-TOUR\, Festhalle\, D-98693 Ilmenau\, DE
UID:20261107T230000Z-555-wp@lukasmaerki.ch
URL:https://www.oeschs-die-dritten.ch
DTSTART;VALUE=DATE-TIME;TZID=GMT:20261107T230000Z
DTEND;VALUE=DATE-TIME;TZID=GMT:20261107T230000Z
DTSTAMP:20260419T010736Z
END:VEVENT
BEGIN:VEVENT
SUMMARY:Oesch's die Dritten \, NEUES DATUM! Zugabe: "Händmade"- TOUR
DESCRIPTION:Tour: ZUGABE: Tournee "Händmade". Anmerkungen: KB 20.00 Uhr 
LOCATION:NEUES DATUM! Zugabe: "Händmade"- TOUR\, Kulturweberei\, D-03238 Finsterwalde\, DE
UID:20261109T230000Z-559-wp@lukasmaerki.ch
URL:https://www.oeschs-die-dritten.ch
DTSTART;VALUE=DATE-TIME;TZID=GMT:20261109T230000Z
DTEND;VALUE=DATE-TIME;TZID=GMT:20261109T230000Z
DTSTAMP:20260419T010736Z
END:VEVENT
BEGIN:VEVENT
SUMMARY:Oesch's die Dritten \, NEUES DATUM! Zugabe: "Händmade"- TOUR
DESCRIPTION:Tour: ZUGABE: Tournee "Händmade". Anmerkungen: Beginn 20.00 Uhr 
LOCATION:NEUES DATUM! Zugabe: "Händmade"- TOUR\, Kulturhalle\, D-97506 Grafenrheinfeld\, DE
UID:20261110T230000Z-558-wp@lukasmaerki.ch
URL:https://www.oeschs-die-dritten.ch
DTSTART;VALUE=DATE-TIME;TZID=GMT:20261110T230000Z
DTEND;VALUE=DATE-TIME;TZID=GMT:20261110T230000Z
DTSTAMP:20260419T010736Z
END:VEVENT
BEGIN:VEVENT
SUMMARY:Oesch's die Dritten \, Herbstkonzert mit Oesch's die Dritten
DESCRIPTION:Anmerkungen: 20.00 Uhr 
LOCATION:Herbstkonzert mit Oesch's die Dritten\, Ramschwagsaal\, A-6710 Nenzing\, AT
UID:20261111T230000Z-576-wp@lukasmaerki.ch
URL:https://www.oeschs-die-dritten.ch
DTSTART;VALUE=DATE-TIME;TZID=GMT:20261111T230000Z
DTEND;VALUE=DATE-TIME;TZID=GMT:20261111T230000Z
DTSTAMP:20260419T010736Z
END:VEVENT
BEGIN:VEVENT
SUMMARY:Oesch's die Dritten \, Weihnachtsmarkt "Party" & Konzert mit Oesch's die Dritten
DESCRIPTION:Anmerkungen: TÖ: 17.00 Uhr\, PB ab 18.30 Uhr 
LOCATION:Weihnachtsmarkt "Party" & Konzert mit Oesch's die Dritten\, Sandra´s Hofzauber\, CH-8932 Mettmenstetten\, ZH\, CH
UID:20261113T230000Z-598-wp@lukasmaerki.ch
URL:https://www.oeschs-die-dritten.ch
DTSTART;VALUE=DATE-TIME;TZID=GMT:20261113T230000Z
DTEND;VALUE=DATE-TIME;TZID=GMT:20261113T230000Z
DTSTAMP:20260419T010736Z
END:VEVENT
BEGIN:VEVENT
SUMMARY:Oesch's die Dritten \, 30 JAHRE/ANS OESCH'S DIE DRITTEN
DESCRIPTION:Tour: MERCI-Tour - 30 Jahre/ans Oesch's die Dritten. 
LOCATION:30 JAHRE/ANS OESCH'S DIE DRITTEN\, La Marive\, CH-1400 Yverdon-les-Bains\, VD\, CH
UID:20270212T230000Z-601-wp@lukasmaerki.ch
URL:https://www.oeschs-die-dritten.ch
DTSTART;VALUE=DATE-TIME;TZID=GMT:20270212T230000Z
DTEND;VALUE=DATE-TIME;TZID=GMT:20270212T230000Z
DTSTAMP:20260419T010736Z
END:VEVENT
BEGIN:VEVENT
SUMMARY:Oesch's die Dritten \, 30 JAHRE/ANS OESCH'S DIE DRITTEN
DESCRIPTION:Tour: MERCI-Tour - 30 Jahre/ans Oesch's die Dritten. 
LOCATION:30 JAHRE/ANS OESCH'S DIE DRITTEN\, Salle Atrium\, CH-2824 Vicques\, JU\, CH
UID:20270219T230000Z-602-wp@lukasmaerki.ch
URL:https://www.oeschs-die-dritten.ch
DTSTART;VALUE=DATE-TIME;TZID=GMT:20270219T230000Z
DTEND;VALUE=DATE-TIME;TZID=GMT:20270219T230000Z
DTSTAMP:20260419T010736Z
END:VEVENT
BEGIN:VEVENT
SUMMARY:Oesch's die Dritten \, 30 JAHRE OESCH'S DIE DRITTEN
DESCRIPTION:Tour: MERCI-Tour - 30 Jahre/ans Oesch's die Dritten. Anmerkungen: Beginn: 19.30 Uhr 
LOCATION:30 JAHRE OESCH'S DIE DRITTEN\, Theater La Poste\, CH-3930 Visp\, VS\, CH
UID:20270226T230000Z-603-wp@lukasmaerki.ch
URL:https://www.oeschs-die-dritten.ch
DTSTART;VALUE=DATE-TIME;TZID=GMT:20270226T230000Z
DTEND;VALUE=DATE-TIME;TZID=GMT:20270226T230000Z
DTSTAMP:20260419T010736Z
END:VEVENT
BEGIN:VEVENT
SUMMARY:Oesch's die Dritten \, 30 JAHRE OESCH'S DIE DRITTEN
DESCRIPTION:Tour: MERCI-Tour - 30 Jahre/ans Oesch's die Dritten. 
LOCATION:30 JAHRE OESCH'S DIE DRITTEN\, Stadtsaal\, CH-9500 Wil\, SG\, CH
UID:20270304T230000Z-604-wp@lukasmaerki.ch
URL:https://www.oeschs-die-dritten.ch
DTSTART;VALUE=DATE-TIME;TZID=GMT:20270304T230000Z
DTEND;VALUE=DATE-TIME;TZID=GMT:20270304T230000Z
DTSTAMP:20260419T010736Z
END:VEVENT
BEGIN:VEVENT
SUMMARY:Oesch's die Dritten \, 30 JAHRE OESCH'S DIE DRITTEN
DESCRIPTION:Tour: MERCI-Tour - 30 Jahre/ans Oesch's die Dritten. 
LOCATION:30 JAHRE OESCH'S DIE DRITTEN\, Aegerihalle\, CH-6314 Unterägeri\, ZG\, CH
UID:20270311T230000Z-605-wp@lukasmaerki.ch
URL:https://www.oeschs-die-dritten.ch
DTSTART;VALUE=DATE-TIME;TZID=GMT:20270311T230000Z
DTEND;VALUE=DATE-TIME;TZID=GMT:20270311T230000Z
DTSTAMP:20260419T010736Z
END:VEVENT
BEGIN:VEVENT
SUMMARY:Oesch's die Dritten \, 30 JAHRE/ANS OESCH'S DIE DRITTEN
DESCRIPTION:Tour: MERCI-Tour - 30 Jahre/ans Oesch's die Dritten. 
LOCATION:30 JAHRE/ANS OESCH'S DIE DRITTEN\, Podium\, CH-3186 Düdingen\, FR\, CH
UID:20270318T230000Z-606-wp@lukasmaerki.ch
URL:https://www.oeschs-die-dritten.ch
DTSTART;VALUE=DATE-TIME;TZID=GMT:20270318T230000Z
DTEND;VALUE=DATE-TIME;TZID=GMT:20270318T230000Z
DTSTAMP:20260419T010736Z
END:VEVENT
BEGIN:VEVENT
SUMMARY:Oesch's die Dritten \, 30 JAHRE/ANS OESCH'S DIE DRITTEN
DESCRIPTION:Tour: MERCI-Tour - 30 Jahre/ans Oesch's die Dritten. Anmerkungen: Ouverture des portes : 18h30 | Début : 19h30 
LOCATION:30 JAHRE/ANS OESCH'S DIE DRITTEN\, Espace Saint-Marc\, CH-1934 Le Châble\, VS\, CH
UID:20270319T230000Z-607-wp@lukasmaerki.ch
URL:https://www.oeschs-die-dritten.ch
DTSTART;VALUE=DATE-TIME;TZID=GMT:20270319T230000Z
DTEND;VALUE=DATE-TIME;TZID=GMT:20270319T230000Z
DTSTAMP:20260419T010736Z
END:VEVENT
BEGIN:VEVENT
SUMMARY:Oesch's die Dritten \, 30 JAHRE OESCH'S DIE DRITTEN
DESCRIPTION:Tour: MERCI-Tour - 30 Jahre/ans Oesch's die Dritten. 
LOCATION:30 JAHRE OESCH'S DIE DRITTEN\, Kultur- und Kongresszentrum Rondo\, CH-7504 Pontresina\, GR\, CH
UID:20270401T220000Z-608-wp@lukasmaerki.ch
URL:https://www.oeschs-die-dritten.ch
DTSTART;VALUE=DATE-TIME;TZID=GMT:20270401T220000Z
DTEND;VALUE=DATE-TIME;TZID=GMT:20270401T220000Z
DTSTAMP:20260419T010736Z
END:VEVENT
BEGIN:VEVENT
SUMMARY:Oesch's die Dritten \, 30 JAHRE OESCH'S DIE DRITTEN
DESCRIPTION:Tour: MERCI-Tour - 30 Jahre/ans Oesch's die Dritten. 
LOCATION:30 JAHRE OESCH'S DIE DRITTEN\, Festhalle\, CH-6204 Sempach\, LU\, CH
UID:20270402T220000Z-609-wp@lukasmaerki.ch
URL:https://www.oeschs-die-dritten.ch
DTSTART;VALUE=DATE-TIME;TZID=GMT:20270402T220000Z
DTEND;VALUE=DATE-TIME;TZID=GMT:20270402T220000Z
DTSTAMP:20260419T010736Z
END:VEVENT
BEGIN:VEVENT
SUMMARY:Oesch's die Dritten \, 30 JAHRE/ANS OESCH'S DIE DRITTEN
DESCRIPTION:Tour: MERCI-Tour - 30 Jahre/ans Oesch's die Dritten. 
LOCATION:30 JAHRE/ANS OESCH'S DIE DRITTEN\, Cort'Agora\, CH-2016 Cortaillod\, NE\, CH
UID:20270409T220000Z-610-wp@lukasmaerki.ch
URL:https://www.oeschs-die-dritten.ch
DTSTART;VALUE=DATE-TIME;TZID=GMT:20270409T220000Z
DTEND;VALUE=DATE-TIME;TZID=GMT:20270409T220000Z
DTSTAMP:20260419T010736Z
END:VEVENT
BEGIN:VEVENT
SUMMARY:Oesch's die Dritten \, 30 JAHRE/ANS OESCH'S DIE DRITTEN
DESCRIPTION:Tour: MERCI-Tour - 30 Jahre/ans Oesch's die Dritten. 
LOCATION:30 JAHRE/ANS OESCH'S DIE DRITTEN\, Alhambra\, CH-1204 Genève\, GE\, CH
UID:20270410T220000Z-611-wp@lukasmaerki.ch
URL:https://www.oeschs-die-dritten.ch
DTSTART;VALUE=DATE-TIME;TZID=GMT:20270410T220000Z
DTEND;VALUE=DATE-TIME;TZID=GMT:20270410T220000Z
DTSTAMP:20260419T010736Z
END:VEVENT
BEGIN:VEVENT
SUMMARY:Oesch's die Dritten \, 30 JAHRE OESCH'S DIE DRITTEN
DESCRIPTION:Tour: MERCI-Tour - 30 Jahre/ans Oesch's die Dritten. 
LOCATION:30 JAHRE OESCH'S DIE DRITTEN\, Gemeindesaal\, CH-5103 Möriken-Wildegg\, AG\, CH
UID:20270416T220000Z-612-wp@lukasmaerki.ch
URL:https://www.oeschs-die-dritten.ch
DTSTART;VALUE=DATE-TIME;TZID=GMT:20270416T220000Z
DTEND;VALUE=DATE-TIME;TZID=GMT:20270416T220000Z
DTSTAMP:20260419T010736Z
END:VEVENT
BEGIN:VEVENT
SUMMARY:Oesch's die Dritten \, 30 JAHRE OESCH'S DIE DRITTEN
DESCRIPTION:Tour: MERCI-Tour - 30 Jahre/ans Oesch's die Dritten. 
LOCATION:30 JAHRE OESCH'S DIE DRITTEN\, emmental versicherung arena\, Langnau BE\, CH
UID:20270417T220000Z-613-wp@lukasmaerki.ch
URL:https://www.oeschs-die-dritten.ch
DTSTART;VALUE=DATE-TIME;TZID=GMT:20270417T220000Z
DTEND;VALUE=DATE-TIME;TZID=GMT:20270417T220000Z
DTSTAMP:20260419T010736Z
END:VEVENT
BEGIN:VEVENT
SUMMARY:Oesch's die Dritten \, 30 JAHRE OESCH'S DIE DRITTEN
DESCRIPTION:Tour: MERCI-Tour - 30 Jahre/ans Oesch's die Dritten. 
LOCATION:30 JAHRE OESCH'S DIE DRITTEN\, Stadthofsaal\, CH-8610 Uster\, ZH\, CH
UID:20270422T220000Z-614-wp@lukasmaerki.ch
URL:https://www.oeschs-die-dritten.ch
DTSTART;VALUE=DATE-TIME;TZID=GMT:20270422T220000Z
DTEND;VALUE=DATE-TIME;TZID=GMT:20270422T220000Z
DTSTAMP:20260419T010736Z
END:VEVENT
BEGIN:VEVENT
SUMMARY:Oesch's die Dritten \, 30 JAHRE OESCH'S DIE DRITTEN
DESCRIPTION:Tour: MERCI-Tour - 30 Jahre/ans Oesch's die Dritten. 
LOCATION:30 JAHRE OESCH'S DIE DRITTEN\, Verrucano\, CH-8887 Mels\, SG\, CH
UID:20270423T220000Z-615-wp@lukasmaerki.ch
URL:https://www.oeschs-die-dritten.ch
DTSTART;VALUE=DATE-TIME;TZID=GMT:20270423T220000Z
DTEND;VALUE=DATE-TIME;TZID=GMT:20270423T220000Z
DTSTAMP:20260419T010736Z
END:VEVENT
BEGIN:VEVENT
SUMMARY:Oesch's die Dritten \, HOT SHOT FESTIVAL 2027
DESCRIPTION:Anmerkungen: HEIMAT-PARTY. Einlass ab 18.30 Uhr | Weitere Infos folgen. 
LOCATION:HOT SHOT FESTIVAL 2027\, Hot Shot Arena\, CH-3616 Oberlangenegg\, BE\, CH
UID:20270812T220000Z-585-wp@lukasmaerki.ch
URL:https://www.oeschs-die-dritten.ch
DTSTART;VALUE=DATE-TIME;TZID=GMT:20270812T220000Z
DTEND;VALUE=DATE-TIME;TZID=GMT:20270812T220000Z
DTSTAMP:20260419T010736Z
END:VEVENT
BEGIN:VEVENT
SUMMARY:Oesch's die Dritten \, HOT SHOT FESTIVAL 2027
DESCRIPTION:Anmerkungen: Festabend | ab 17.30 Uhr. Weitere Infos folgen. 
LOCATION:HOT SHOT FESTIVAL 2027\, Hot Shot Arena\, CH-3616 Oberlangenegg\, BE\, CH
UID:20270813T220000Z-588-wp@lukasmaerki.ch
URL:https://www.oeschs-die-dritten.ch
DTSTART;VALUE=DATE-TIME;TZID=GMT:20270813T220000Z
DTEND;VALUE=DATE-TIME;TZID=GMT:20270813T220000Z
DTSTAMP:20260419T010736Z
END:VEVENT
END:VCALENDAR